BEGIN:VCALENDAR
VERSION:2.0
PRODID:-//Apostolic Pentecostal Church - ECPv6.15.11//NONSGML v1.0//EN
CALSCALE:GREGORIAN
METHOD:PUBLISH
X-ORIGINAL-URL:https://sanctuaryapc.com
X-WR-CALDESC:Events for Apostolic Pentecostal Church
REFRESH-INTERVAL;VALUE=DURATION:PT1H
X-Robots-Tag:noindex
X-PUBLISHED-TTL:PT1H
BEGIN:VTIMEZONE
TZID:America/Chicago
BEGIN:DAYLIGHT
TZOFFSETFROM:-0600
TZOFFSETTO:-0500
TZNAME:CDT
DTSTART:20230312T080000
END:DAYLIGHT
BEGIN:STANDARD
TZOFFSETFROM:-0500
TZOFFSETTO:-0600
TZNAME:CST
DTSTART:20231105T070000
END:STANDARD
BEGIN:DAYLIGHT
TZOFFSETFROM:-0600
TZOFFSETTO:-0500
TZNAME:CDT
DTSTART:20240310T080000
END:DAYLIGHT
BEGIN:STANDARD
TZOFFSETFROM:-0500
TZOFFSETTO:-0600
TZNAME:CST
DTSTART:20241103T070000
END:STANDARD
BEGIN:DAYLIGHT
TZOFFSETFROM:-0600
TZOFFSETTO:-0500
TZNAME:CDT
DTSTART:20250309T080000
END:DAYLIGHT
BEGIN:STANDARD
TZOFFSETFROM:-0500
TZOFFSETTO:-0600
TZNAME:CST
DTSTART:20251102T070000
END:STANDARD
END:VTIMEZONE
BEGIN:VTIMEZONE
TZID:UTC
BEGIN:STANDARD
TZOFFSETFROM:+0000
TZOFFSETTO:+0000
TZNAME:UTC
DTSTART:20230101T000000
END:STANDARD
END:VTIMEZONE
BEGIN:VEVENT
DTSTART;TZID=America/Chicago:20240203T113000
DTEND;TZID=America/Chicago:20240203T130000
DTSTAMP:20260425T114656
CREATED:20240128T002028Z
LAST-MODIFIED:20240128T002029Z
UID:2060-1706959800-1706965200@sanctuaryapc.com
SUMMARY:Birthday Celebration for Sister Bertram
DESCRIPTION:There will be a birthday celebration for Sis Bertram next Saturday\, Feb 3rd at 11:30 here at the church.  All ladies of the Sanctuary ages 16 and up are invited.
URL:https://sanctuaryapc.com/events/birthday-celebration-for-sister-bertram/
LOCATION:The Sanctuary Apostolic Pentecostal Church\, 1321 4th Avenue SW\, Bessemer\, Alabama\, 35022
ATTACH;FMTTYPE=image/jpeg:https://sanctuaryapc.com/wp-content/uploads/2024/01/240203-Sis.-Bertram-Birthday-2024.jpg
END:VEVENT
BEGIN:VEVENT
DTSTART;TZID=America/Chicago:20240103T190000
DTEND;TZID=America/Chicago:20240103T200000
DTSTAMP:20260425T114656
CREATED:20240102T053007Z
LAST-MODIFIED:20240103T004943Z
UID:1857-1704308400-1704312000@sanctuaryapc.com
SUMMARY:Midweek Refresh
DESCRIPTION:
URL:https://sanctuaryapc.com/events/midweek-refresh/
LOCATION:The Sanctuary Apostolic Pentecostal Church\, 1321 4th Avenue SW\, Bessemer\, Alabama\, 35022
ATTACH;FMTTYPE=image/png:https://sanctuaryapc.com/wp-content/uploads/2024/01/mdwk_refresh.png
END:VEVENT
BEGIN:VEVENT
DTSTART;TZID=America/Chicago:20240107T110000
DTEND;TZID=America/Chicago:20240107T130000
DTSTAMP:20260425T114656
CREATED:20240102T052905Z
LAST-MODIFIED:20240103T005004Z
UID:1851-1704625200-1704632400@sanctuaryapc.com
SUMMARY:Sunday Worship
DESCRIPTION:
URL:https://sanctuaryapc.com/events/sunday-worship/
LOCATION:The Sanctuary Apostolic Pentecostal Church\, 1321 4th Avenue SW\, Bessemer\, Alabama\, 35022
ATTACH;FMTTYPE=image/png:https://sanctuaryapc.com/wp-content/uploads/2024/01/sunday_worship.png
END:VEVENT
BEGIN:VEVENT
DTSTART;TZID=America/Chicago:20240107T100000
DTEND;TZID=America/Chicago:20240107T104500
DTSTAMP:20260425T114656
CREATED:20240102T185621Z
LAST-MODIFIED:20240103T004957Z
UID:1941-1704621600-1704624300@sanctuaryapc.com
SUMMARY:Sunday Classes
DESCRIPTION:ALL CLASSES ARE FROM 10 – 10:45am and followed by Worship Service in the Main Auditorium/Sanctuary at 11am.Ages 3-5 (potty-trained) – LOCATION: Sunday School Room 1 Ages 6-8 – LOCATION: Sunday School Room 2 Ages 9-11 – LOCATION: Sunday School Room 2 Youth Class 2 – Ages 12-18 – LOCATION: Youth Room Hyphen (Ages 18-35 who have graduated high school) – LOCATION: Sunday School Room 3 General Session Class – LOCATION: Fellowship Hall (breakfast is provided) New Members Meet and Greet Class – LOCATION: Prayer Room (this class is held once per quarter on the 2nd Sunday of each new quarter (the 2nd Sundays of January\, April\, July\, October) Foundations Class – LOCATION: Upstairs Sunday School Room (this 10 week class is held the 1st and 3rd quarters of each year Life Keys Class – LOCATION: Upstairs Sunday School Room (this 10 week class is held the 2nd and 4th quarters of each year Marriage Mentorship Class – LOCATION: Starbucks on Ford Parkway (this class is held the 1st Sunday of each month)
URL:https://sanctuaryapc.com/events/sunday-classes-2/
LOCATION:The Sanctuary Apostolic Pentecostal Church\, 1321 4th Avenue SW\, Bessemer\, Alabama\, 35022
ATTACH;FMTTYPE=image/png:https://sanctuaryapc.com/wp-content/uploads/2024/01/sunday_classes.png
END:VEVENT
BEGIN:VEVENT
DTSTART;TZID=America/Chicago:20240121T120000
DTEND;TZID=America/Chicago:20240121T043000
DTSTAMP:20260425T114656
CREATED:20240103T004736Z
LAST-MODIFIED:20240105T130022Z
UID:1955-1705838400-1705811400@sanctuaryapc.com
SUMMARY:Foundations Class
DESCRIPTION:The New Foundations Class begins Sunday January 21st at 10am and will go through Sunday March 24th.  If you have not gone through a Foundations Class\, we encourage you to attend.  There will be many exciting topics about Christian Living and growing in God taught in this class.  This class is for ages 18 and up and will be held weekly every Sunday in the upstairs children’s church room.  See Richard or Alliana Smith for more info or signup at www.sanctuaryapc.com/foundations
URL:https://sanctuaryapc.com/events/foundations-class/
LOCATION:The Sanctuary Apostolic Pentecostal Church\, 1321 4th Avenue SW\, Bessemer\, Alabama\, 35022
ATTACH;FMTTYPE=image/png:https://sanctuaryapc.com/wp-content/uploads/2024/01/Screenshot-2024-01-05-at-6.59.25-AM.png
END:VEVENT
BEGIN:VEVENT
DTSTART;TZID=America/Chicago:20240103T190000
DTEND;TZID=America/Chicago:20240103T200000
DTSTAMP:20260425T114656
CREATED:20240102T053007Z
LAST-MODIFIED:20240103T004943Z
UID:1857-1704308400-1704312000@sanctuaryapc.com
SUMMARY:Midweek Refresh
DESCRIPTION:
URL:https://sanctuaryapc.com/events/midweek-refresh/
LOCATION:The Sanctuary Apostolic Pentecostal Church\, 1321 4th Avenue SW\, Bessemer\, Alabama\, 35022
ATTACH;FMTTYPE=image/png:https://sanctuaryapc.com/wp-content/uploads/2024/01/mdwk_refresh.png
END:VEVENT
BEGIN:VEVENT
DTSTART;TZID=America/Chicago:20240107T110000
DTEND;TZID=America/Chicago:20240107T130000
DTSTAMP:20260425T114656
CREATED:20240102T052905Z
LAST-MODIFIED:20240103T005004Z
UID:1851-1704625200-1704632400@sanctuaryapc.com
SUMMARY:Sunday Worship
DESCRIPTION:
URL:https://sanctuaryapc.com/events/sunday-worship/
LOCATION:The Sanctuary Apostolic Pentecostal Church\, 1321 4th Avenue SW\, Bessemer\, Alabama\, 35022
ATTACH;FMTTYPE=image/png:https://sanctuaryapc.com/wp-content/uploads/2024/01/sunday_worship.png
END:VEVENT
BEGIN:VEVENT
DTSTART;TZID=America/Chicago:20240107T100000
DTEND;TZID=America/Chicago:20240107T104500
DTSTAMP:20260425T114656
CREATED:20240102T185621Z
LAST-MODIFIED:20240103T004957Z
UID:1941-1704621600-1704624300@sanctuaryapc.com
SUMMARY:Sunday Classes
DESCRIPTION:ALL CLASSES ARE FROM 10 – 10:45am and followed by Worship Service in the Main Auditorium/Sanctuary at 11am.Ages 3-5 (potty-trained) – LOCATION: Sunday School Room 1 Ages 6-8 – LOCATION: Sunday School Room 2 Ages 9-11 – LOCATION: Sunday School Room 2 Youth Class 2 – Ages 12-18 – LOCATION: Youth Room Hyphen (Ages 18-35 who have graduated high school) – LOCATION: Sunday School Room 3 General Session Class – LOCATION: Fellowship Hall (breakfast is provided) New Members Meet and Greet Class – LOCATION: Prayer Room (this class is held once per quarter on the 2nd Sunday of each new quarter (the 2nd Sundays of January\, April\, July\, October) Foundations Class – LOCATION: Upstairs Sunday School Room (this 10 week class is held the 1st and 3rd quarters of each year Life Keys Class – LOCATION: Upstairs Sunday School Room (this 10 week class is held the 2nd and 4th quarters of each year Marriage Mentorship Class – LOCATION: Starbucks on Ford Parkway (this class is held the 1st Sunday of each month)
URL:https://sanctuaryapc.com/events/sunday-classes-2/
LOCATION:The Sanctuary Apostolic Pentecostal Church\, 1321 4th Avenue SW\, Bessemer\, Alabama\, 35022
ATTACH;FMTTYPE=image/png:https://sanctuaryapc.com/wp-content/uploads/2024/01/sunday_classes.png
END:VEVENT
BEGIN:VEVENT
DTSTART;TZID=America/Chicago:20240121T120000
DTEND;TZID=America/Chicago:20240121T043000
DTSTAMP:20260425T114656
CREATED:20240103T004736Z
LAST-MODIFIED:20240105T130022Z
UID:1955-1705838400-1705811400@sanctuaryapc.com
SUMMARY:Foundations Class
DESCRIPTION:The New Foundations Class begins Sunday January 21st at 10am and will go through Sunday March 24th.  If you have not gone through a Foundations Class\, we encourage you to attend.  There will be many exciting topics about Christian Living and growing in God taught in this class.  This class is for ages 18 and up and will be held weekly every Sunday in the upstairs children’s church room.  See Richard or Alliana Smith for more info or signup at www.sanctuaryapc.com/foundations
URL:https://sanctuaryapc.com/events/foundations-class/
LOCATION:The Sanctuary Apostolic Pentecostal Church\, 1321 4th Avenue SW\, Bessemer\, Alabama\, 35022
ATTACH;FMTTYPE=image/png:https://sanctuaryapc.com/wp-content/uploads/2024/01/Screenshot-2024-01-05-at-6.59.25-AM.png
END:VEVENT
BEGIN:VEVENT
DTSTART;TZID=America/Chicago:20240119T190000
DTEND;TZID=America/Chicago:20240119T210000
DTSTAMP:20260425T114656
CREATED:20240102T062502Z
LAST-MODIFIED:20240105T122535Z
UID:1903-1705690800-1705698000@sanctuaryapc.com
SUMMARY:Save Our Children KICKOFF RALLY
DESCRIPTION:Join us for the first of FOUR Kickoff Rallies as we enter into a season of fundraising for Save Our Children! Half of the money raised for Save Our Children goes right back into our state! The other half benefits children across the nation and around the world! Don’t miss this opportunity to worship with other families in your area and to help build the Kingdom! More info here: https://www.alchildrensministries.org/save-our-children
URL:https://sanctuaryapc.com/events/save-our-children-kickoff-rally/
LOCATION:Calvary Tabernacle Moulton\, 19014 Alabama Highway 24\, Moulton\, Alabama\, 35650
CATEGORIES:Childrens Events
ATTACH;FMTTYPE=image/png:https://sanctuaryapc.com/wp-content/uploads/2024/01/Save-our-Children.png
END:VEVENT
BEGIN:VEVENT
DTSTART;TZID=America/Chicago:20240103T190000
DTEND;TZID=America/Chicago:20240103T200000
DTSTAMP:20260425T114656
CREATED:20240102T053007Z
LAST-MODIFIED:20240103T004943Z
UID:1857-1704308400-1704312000@sanctuaryapc.com
SUMMARY:Midweek Refresh
DESCRIPTION:
URL:https://sanctuaryapc.com/events/midweek-refresh/
LOCATION:The Sanctuary Apostolic Pentecostal Church\, 1321 4th Avenue SW\, Bessemer\, Alabama\, 35022
ATTACH;FMTTYPE=image/png:https://sanctuaryapc.com/wp-content/uploads/2024/01/mdwk_refresh.png
END:VEVENT
BEGIN:VEVENT
DTSTART;TZID=America/Chicago:20240107T110000
DTEND;TZID=America/Chicago:20240107T130000
DTSTAMP:20260425T114656
CREATED:20240102T052905Z
LAST-MODIFIED:20240103T005004Z
UID:1851-1704625200-1704632400@sanctuaryapc.com
SUMMARY:Sunday Worship
DESCRIPTION:
URL:https://sanctuaryapc.com/events/sunday-worship/
LOCATION:The Sanctuary Apostolic Pentecostal Church\, 1321 4th Avenue SW\, Bessemer\, Alabama\, 35022
ATTACH;FMTTYPE=image/png:https://sanctuaryapc.com/wp-content/uploads/2024/01/sunday_worship.png
END:VEVENT
BEGIN:VEVENT
DTSTART;TZID=America/Chicago:20240107T100000
DTEND;TZID=America/Chicago:20240107T104500
DTSTAMP:20260425T114656
CREATED:20240102T185621Z
LAST-MODIFIED:20240103T004957Z
UID:1941-1704621600-1704624300@sanctuaryapc.com
SUMMARY:Sunday Classes
DESCRIPTION:ALL CLASSES ARE FROM 10 – 10:45am and followed by Worship Service in the Main Auditorium/Sanctuary at 11am.Ages 3-5 (potty-trained) – LOCATION: Sunday School Room 1 Ages 6-8 – LOCATION: Sunday School Room 2 Ages 9-11 – LOCATION: Sunday School Room 2 Youth Class 2 – Ages 12-18 – LOCATION: Youth Room Hyphen (Ages 18-35 who have graduated high school) – LOCATION: Sunday School Room 3 General Session Class – LOCATION: Fellowship Hall (breakfast is provided) New Members Meet and Greet Class – LOCATION: Prayer Room (this class is held once per quarter on the 2nd Sunday of each new quarter (the 2nd Sundays of January\, April\, July\, October) Foundations Class – LOCATION: Upstairs Sunday School Room (this 10 week class is held the 1st and 3rd quarters of each year Life Keys Class – LOCATION: Upstairs Sunday School Room (this 10 week class is held the 2nd and 4th quarters of each year Marriage Mentorship Class – LOCATION: Starbucks on Ford Parkway (this class is held the 1st Sunday of each month)
URL:https://sanctuaryapc.com/events/sunday-classes-2/
LOCATION:The Sanctuary Apostolic Pentecostal Church\, 1321 4th Avenue SW\, Bessemer\, Alabama\, 35022
ATTACH;FMTTYPE=image/png:https://sanctuaryapc.com/wp-content/uploads/2024/01/sunday_classes.png
END:VEVENT
BEGIN:VEVENT
DTSTART;TZID=America/Chicago:20240114T100000
DTEND;TZID=America/Chicago:20240114T104500
DTSTAMP:20260425T114656
CREATED:20240102T183945Z
LAST-MODIFIED:20240105T125653Z
UID:1922-1705226400-1705229100@sanctuaryapc.com
SUMMARY:Meet and Greet Breakfast and Class with Pastor Todd Bertram
DESCRIPTION:Loading…
URL:https://sanctuaryapc.com/events/meet-and-greet-breakfast-and-class-with-pastor-todd-bertram/
LOCATION:The Sanctuary Apostolic Pentecostal Church\, 1321 4th Avenue SW\, Bessemer\, Alabama\, 35022
ATTACH;FMTTYPE=image/png:https://sanctuaryapc.com/wp-content/uploads/2024/01/Screenshot-2024-01-05-at-6.56.04-AM.png
END:VEVENT
BEGIN:VEVENT
DTSTART;TZID=America/Chicago:20240112T190000
DTEND;TZID=America/Chicago:20240112T210000
DTSTAMP:20260425T114656
CREATED:20240102T055121Z
LAST-MODIFIED:20240102T055123Z
UID:1884-1705086000-1705093200@sanctuaryapc.com
SUMMARY:Children's Rally
DESCRIPTION:There will be an awesome children’s rally Friday January 12th at 7pm at The Sanctuary Church!  There will be music and a fun kids service followed by pizza\, games and fun!  Come grow in God and have a good time!  This is for age 11 and under.  Contact Adarious or Shayla Myrick for more information.
URL:https://sanctuaryapc.com/events/childrens-rally/
LOCATION:The Sanctuary Apostolic Pentecostal Church\, 1321 4th Avenue SW\, Bessemer\, Alabama\, 35022
ATTACH;FMTTYPE=image/jpeg:https://sanctuaryapc.com/wp-content/uploads/2024/01/Childrens-Rally.jpg
END:VEVENT
BEGIN:VEVENT
DTSTART;TZID=America/Chicago:20240103T190000
DTEND;TZID=America/Chicago:20240103T200000
DTSTAMP:20260425T114656
CREATED:20240102T053007Z
LAST-MODIFIED:20240103T004943Z
UID:1857-1704308400-1704312000@sanctuaryapc.com
SUMMARY:Midweek Refresh
DESCRIPTION:
URL:https://sanctuaryapc.com/events/midweek-refresh/
LOCATION:The Sanctuary Apostolic Pentecostal Church\, 1321 4th Avenue SW\, Bessemer\, Alabama\, 35022
ATTACH;FMTTYPE=image/png:https://sanctuaryapc.com/wp-content/uploads/2024/01/mdwk_refresh.png
END:VEVENT
BEGIN:VEVENT
DTSTART;TZID=America/Chicago:20240107T110000
DTEND;TZID=America/Chicago:20240107T130000
DTSTAMP:20260425T114656
CREATED:20240102T052905Z
LAST-MODIFIED:20240103T005004Z
UID:1851-1704625200-1704632400@sanctuaryapc.com
SUMMARY:Sunday Worship
DESCRIPTION:
URL:https://sanctuaryapc.com/events/sunday-worship/
LOCATION:The Sanctuary Apostolic Pentecostal Church\, 1321 4th Avenue SW\, Bessemer\, Alabama\, 35022
ATTACH;FMTTYPE=image/png:https://sanctuaryapc.com/wp-content/uploads/2024/01/sunday_worship.png
END:VEVENT
BEGIN:VEVENT
DTSTART;TZID=America/Chicago:20240107T100000
DTEND;TZID=America/Chicago:20240107T104500
DTSTAMP:20260425T114656
CREATED:20240102T185621Z
LAST-MODIFIED:20240103T004957Z
UID:1941-1704621600-1704624300@sanctuaryapc.com
SUMMARY:Sunday Classes
DESCRIPTION:ALL CLASSES ARE FROM 10 – 10:45am and followed by Worship Service in the Main Auditorium/Sanctuary at 11am.Ages 3-5 (potty-trained) – LOCATION: Sunday School Room 1 Ages 6-8 – LOCATION: Sunday School Room 2 Ages 9-11 – LOCATION: Sunday School Room 2 Youth Class 2 – Ages 12-18 – LOCATION: Youth Room Hyphen (Ages 18-35 who have graduated high school) – LOCATION: Sunday School Room 3 General Session Class – LOCATION: Fellowship Hall (breakfast is provided) New Members Meet and Greet Class – LOCATION: Prayer Room (this class is held once per quarter on the 2nd Sunday of each new quarter (the 2nd Sundays of January\, April\, July\, October) Foundations Class – LOCATION: Upstairs Sunday School Room (this 10 week class is held the 1st and 3rd quarters of each year Life Keys Class – LOCATION: Upstairs Sunday School Room (this 10 week class is held the 2nd and 4th quarters of each year Marriage Mentorship Class – LOCATION: Starbucks on Ford Parkway (this class is held the 1st Sunday of each month)
URL:https://sanctuaryapc.com/events/sunday-classes-2/
LOCATION:The Sanctuary Apostolic Pentecostal Church\, 1321 4th Avenue SW\, Bessemer\, Alabama\, 35022
ATTACH;FMTTYPE=image/png:https://sanctuaryapc.com/wp-content/uploads/2024/01/sunday_classes.png
END:VEVENT
BEGIN:VEVENT
DTSTART;TZID=UTC:20240107T100000
DTEND;TZID=UTC:20240107T104500
DTSTAMP:20260425T114656
CREATED:20240102T055802Z
LAST-MODIFIED:20240102T190343Z
UID:1888-1704621600-1704624300@sanctuaryapc.com
SUMMARY:Young Marrieds Class
DESCRIPTION:Join us the first Sunday of every month to super-charge your marriage with other Christian couples as we draw closer to our spouses and learn from the Word of God and each other about how to have better marriages.  Contact Richard or Alliana Smith for more info at 205-433-9840.
URL:https://sanctuaryapc.com/events/young-married-couples-2/
LOCATION:Starbucks\, 5049 Ford Pkwy\, Bessemer\, AL\, 35022
ATTACH;FMTTYPE=image/jpeg:https://sanctuaryapc.com/wp-content/uploads/2024/01/young-marrieds-e1704221476246.jpg
END:VEVENT
BEGIN:VEVENT
DTSTART;TZID=America/Chicago:20240106T093000
DTEND;TZID=America/Chicago:20240106T120000
DTSTAMP:20260425T114656
CREATED:20240102T190110Z
LAST-MODIFIED:20240103T004949Z
UID:1948-1704533400-1704542400@sanctuaryapc.com
SUMMARY:Alabama JR and SR Bible Quiz Tournament
DESCRIPTION:Watch this fun\, competitive event as children and young people alike quiz Jeopardy-style against questions from the many Bible verses they have committed to memory.
URL:https://sanctuaryapc.com/events/alabama-jr-and-sr-bible-quiz-tournament/
LOCATION:The Sanctuary Apostolic Pentecostal Church\, 1321 4th Avenue SW\, Bessemer\, Alabama\, 35022
END:VEVENT
BEGIN:VEVENT
DTSTART;TZID=America/Chicago:20240106T070000
DTEND;TZID=America/Chicago:20240106T100000
DTSTAMP:20260425T114656
CREATED:20240102T185906Z
LAST-MODIFIED:20240103T045144Z
UID:1946-1704524400-1704535200@sanctuaryapc.com
SUMMARY:Saturday Morning Prayer Chain
DESCRIPTION:Join us as we pray for the many needs in our city\, area and nation.
URL:https://sanctuaryapc.com/events/saturday-morning-prayer-chain/
LOCATION:The Sanctuary Apostolic Pentecostal Church\, 1321 4th Avenue SW\, Bessemer\, Alabama\, 35022
ATTACH;FMTTYPE=image/jpeg:https://sanctuaryapc.com/wp-content/uploads/2024/01/IMG_1099.jpeg
END:VEVENT
BEGIN:VEVENT
DTSTART;TZID=America/Chicago:20240103T190000
DTEND;TZID=America/Chicago:20240103T200000
DTSTAMP:20260425T114656
CREATED:20240102T053007Z
LAST-MODIFIED:20240103T004943Z
UID:1857-1704308400-1704312000@sanctuaryapc.com
SUMMARY:Midweek Refresh
DESCRIPTION:
URL:https://sanctuaryapc.com/events/midweek-refresh/
LOCATION:The Sanctuary Apostolic Pentecostal Church\, 1321 4th Avenue SW\, Bessemer\, Alabama\, 35022
ATTACH;FMTTYPE=image/png:https://sanctuaryapc.com/wp-content/uploads/2024/01/mdwk_refresh.png
END:VEVENT
BEGIN:VEVENT
DTSTART;TZID=America/Chicago:20240102T080000
DTEND;TZID=America/Chicago:20240107T170000
DTSTAMP:20260425T114656
CREATED:20240102T185814Z
LAST-MODIFIED:20240102T185815Z
UID:1944-1704182400-1704646800@sanctuaryapc.com
SUMMARY:New Year Prayer and Fasting Chain
DESCRIPTION:Join us as we start the New Year off right.  Be prayerful as God leads you to fast.  Many of us are fasting some social media and entertainment (except as needed for business purposes).
URL:https://sanctuaryapc.com/events/new-year-prayer-and-fasting-chain/
LOCATION:Alabama
END:VEVENT
END:VCALENDAR